BEGIN:VCALENDAR
VERSION:2.0
PRODID:-//COUNTRY ATTITUDE - ECPv6.15.20//NONSGML v1.0//EN
CALSCALE:GREGORIAN
METHOD:PUBLISH
X-WR-CALNAME:COUNTRY ATTITUDE
X-ORIGINAL-URL:https://countryattitude37.fr
X-WR-CALDESC:Évènements pour COUNTRY ATTITUDE
REFRESH-INTERVAL;VALUE=DURATION:PT1H
X-Robots-Tag:noindex
X-PUBLISHED-TTL:PT1H
BEGIN:VTIMEZONE
TZID:Europe/Paris
BEGIN:DAYLIGHT
TZOFFSETFROM:+0100
TZOFFSETTO:+0200
TZNAME:CEST
DTSTART:20200329T010000
END:DAYLIGHT
BEGIN:STANDARD
TZOFFSETFROM:+0200
TZOFFSETTO:+0100
TZNAME:CET
DTSTART:20201025T010000
END:STANDARD
BEGIN:DAYLIGHT
TZOFFSETFROM:+0100
TZOFFSETTO:+0200
TZNAME:CEST
DTSTART:20210328T010000
END:DAYLIGHT
BEGIN:STANDARD
TZOFFSETFROM:+0200
TZOFFSETTO:+0100
TZNAME:CET
DTSTART:20211031T010000
END:STANDARD
BEGIN:DAYLIGHT
TZOFFSETFROM:+0100
TZOFFSETTO:+0200
TZNAME:CEST
DTSTART:20220327T010000
END:DAYLIGHT
BEGIN:STANDARD
TZOFFSETFROM:+0200
TZOFFSETTO:+0100
TZNAME:CET
DTSTART:20221030T010000
END:STANDARD
END:VTIMEZONE
BEGIN:VEVENT
DTSTART;TZID=Europe/Paris:20211204T143000
DTEND;TZID=Europe/Paris:20211204T235900
DTSTAMP:20260423T124626
CREATED:20210811T222534Z
LAST-MODIFIED:20210811T222534Z
UID:6332-1638628200-1638662340@countryattitude37.fr
SUMMARY:Sam 4/12/2021 : BECON LES GRANITS (49) Workshop et Bal Cd chez GM COUNTRY
DESCRIPTION:
URL:https://countryattitude37.fr/event/sam-4-12-2021-becon-les-granits-49-workshop-et-bal-cd-chez-gm-country/
LOCATION:BECON LES GRANITS
CATEGORIES:AGENDA
ATTACH;FMTTYPE=image/jpeg:https://countryattitude37.fr/wp-content/uploads/2021/08/2021-12-04-BECON-LES-GRANITS-49-chez-GM-COUNTRY-avec-Chrystel-DURAND.jpg
END:VEVENT
BEGIN:VEVENT
DTSTART;TZID=Europe/Paris:20211219T140000
DTEND;TZID=Europe/Paris:20211219T183000
DTSTAMP:20260423T124626
CREATED:20210704T084151Z
LAST-MODIFIED:20210811T190229Z
UID:6211-1639922400-1639938600@countryattitude37.fr
SUMMARY:Dim 19/12/2021 : Bal country CD de Noël
DESCRIPTION:
URL:https://countryattitude37.fr/event/dimanche-19-decembre-2021-bal-de-noel/
LOCATION:Salle des fêtes de BENAIS (37)\, rue de la République\, 37140 BENAIS\, France
CATEGORIES:AGENDA
ATTACH;FMTTYPE=image/png:https://countryattitude37.fr/wp-content/uploads/2021/07/2021-12-19-Bal-Noel-Country-Attitude-37-Benais.png
ORGANIZER;CN="COUNTRY ATTITUDE":MAILTO:michele.chilon@hotmail.fr
END:VEVENT
END:VCALENDAR