BEGIN:VCALENDAR
VERSION:2.0
PRODID:-//COUNTRY ATTITUDE - ECPv6.15.20//NONSGML v1.0//EN
CALSCALE:GREGORIAN
METHOD:PUBLISH
X-ORIGINAL-URL:https://countryattitude37.fr
X-WR-CALDESC:Évènements pour COUNTRY ATTITUDE
REFRESH-INTERVAL;VALUE=DURATION:PT1H
X-Robots-Tag:noindex
X-PUBLISHED-TTL:PT1H
BEGIN:VTIMEZONE
TZID:Europe/Paris
BEGIN:DAYLIGHT
TZOFFSETFROM:+0100
TZOFFSETTO:+0200
TZNAME:CEST
DTSTART:20200329T010000
END:DAYLIGHT
BEGIN:STANDARD
TZOFFSETFROM:+0200
TZOFFSETTO:+0100
TZNAME:CET
DTSTART:20201025T010000
END:STANDARD
BEGIN:DAYLIGHT
TZOFFSETFROM:+0100
TZOFFSETTO:+0200
TZNAME:CEST
DTSTART:20210328T010000
END:DAYLIGHT
BEGIN:STANDARD
TZOFFSETFROM:+0200
TZOFFSETTO:+0100
TZNAME:CET
DTSTART:20211031T010000
END:STANDARD
BEGIN:DAYLIGHT
TZOFFSETFROM:+0100
TZOFFSETTO:+0200
TZNAME:CEST
DTSTART:20220327T010000
END:DAYLIGHT
BEGIN:STANDARD
TZOFFSETFROM:+0200
TZOFFSETTO:+0100
TZNAME:CET
DTSTART:20221030T010000
END:STANDARD
END:VTIMEZONE
BEGIN:VEVENT
DTSTART;TZID=Europe/Paris:20211113T193000
DTEND;TZID=Europe/Paris:20211113T193000
DTSTAMP:20260423T142831
CREATED:20210811T224955Z
LAST-MODIFIED:20210811T224955Z
UID:6344-1636831800-1636831800@countryattitude37.fr
SUMMARY:Sam 13/11/2022 : LE LION D'ANGERS(49) - LES CRAZY PUG chez Madison Country Briollay
DESCRIPTION:EVENEMENT 2020 reporté en 2021
URL:https://countryattitude37.fr/event/sam-13-11-2022-le-lion-dangers49-les-crazy-pug-chez-madison-country-briollay/
LOCATION:LE LION D’ANGERS
CATEGORIES:AGENDA
ATTACH;FMTTYPE=image/png:https://countryattitude37.fr/wp-content/uploads/2021/08/2021-11-13-LE-LION-DANGERS-49-Les-CRAZY-PUG-chez-MADISON-COUNTRY-BRIOLLAY.png
END:VEVENT
BEGIN:VEVENT
DTSTART;TZID=Europe/Paris:20211127T150000
DTEND;TZID=Europe/Paris:20211127T235900
DTSTAMP:20260423T142831
CREATED:20211008T154847Z
LAST-MODIFIED:20211108T063856Z
UID:6476-1638025200-1638057540@countryattitude37.fr
SUMMARY:Sam 27/11 : Bal à St Lambert des Levées (49) Happy Country Band
DESCRIPTION:Cliquez sur les liens pour découvrir les playlists concoctées pour vous par Marie-Sylvie \n2021 11 27 ST LAMBERT (49) PLAYLIST 14H \n2021 11 27 ST LAMBERT (49) PLAYLIST 20H
URL:https://countryattitude37.fr/event/sam-27-11-bal-a-st-lambert-des-levees-49-happy-country-band/
LOCATION:SAINT LAMBERT DES LEVEES (49)
CATEGORIES:AGENDA
ATTACH;FMTTYPE=image/jpeg:https://countryattitude37.fr/wp-content/uploads/2021/10/2021-11-27-ST-LAMBERT-49-Happy-country-Band-.jpg
END:VEVENT
END:VCALENDAR