BEGIN:VCALENDAR
VERSION:2.0
PRODID:-//COUNTRY ATTITUDE - ECPv6.15.20//NONSGML v1.0//EN
CALSCALE:GREGORIAN
METHOD:PUBLISH
X-ORIGINAL-URL:https://countryattitude37.fr
X-WR-CALDESC:Évènements pour COUNTRY ATTITUDE
REFRESH-INTERVAL;VALUE=DURATION:PT1H
X-Robots-Tag:noindex
X-PUBLISHED-TTL:PT1H
BEGIN:VTIMEZONE
TZID:Europe/Paris
BEGIN:DAYLIGHT
TZOFFSETFROM:+0100
TZOFFSETTO:+0200
TZNAME:CEST
DTSTART:20200329T010000
END:DAYLIGHT
BEGIN:STANDARD
TZOFFSETFROM:+0200
TZOFFSETTO:+0100
TZNAME:CET
DTSTART:20201025T010000
END:STANDARD
BEGIN:DAYLIGHT
TZOFFSETFROM:+0100
TZOFFSETTO:+0200
TZNAME:CEST
DTSTART:20210328T010000
END:DAYLIGHT
BEGIN:STANDARD
TZOFFSETFROM:+0200
TZOFFSETTO:+0100
TZNAME:CET
DTSTART:20211031T010000
END:STANDARD
BEGIN:DAYLIGHT
TZOFFSETFROM:+0100
TZOFFSETTO:+0200
TZNAME:CEST
DTSTART:20220327T010000
END:DAYLIGHT
BEGIN:STANDARD
TZOFFSETFROM:+0200
TZOFFSETTO:+0100
TZNAME:CET
DTSTART:20221030T010000
END:STANDARD
END:VTIMEZONE
BEGIN:VEVENT
DTSTART;TZID=Europe/Paris:20210813T200000
DTEND;TZID=Europe/Paris:20210813T200000
DTSTAMP:20260423T191433
CREATED:20210811T191140Z
LAST-MODIFIED:20210811T191349Z
UID:6293-1628884800-1628884800@countryattitude37.fr
SUMMARY:Ven 13/08/2021 : soirée country à la guinguette "O BORD DU LOIR"
DESCRIPTION:https://www.facebook.com/guinguetteobordduloir \nInitiation country de 20h à 21h \nBal country à partir de 21h animé par Martine (Playlist et danses à la demande)
URL:https://countryattitude37.fr/event/ven-13-08-2021-soiree-country-a-la-guinguette-o-bord-du-loir/
LOCATION:THOREE LES PINS (72)
CATEGORIES:AGENDA
ATTACH;FMTTYPE=image/jpeg:https://countryattitude37.fr/wp-content/uploads/2021/08/Guinguette-au-bord-du-loir-.jpg
ORGANIZER;CN="GUINGUETTE O BORD DU LOIR":MAILTO:guinguette@obordduloir.fr
END:VEVENT
BEGIN:VEVENT
DTSTART;TZID=Europe/Paris:20210815T150000
DTEND;TZID=Europe/Paris:20210815T190000
DTSTAMP:20260423T191433
CREATED:20210811T182145Z
LAST-MODIFIED:20210811T184323Z
UID:6280-1629039600-1629054000@countryattitude37.fr
SUMMARY:Dim 15/08/2021: Country au bord du lac de Mansigné (72)
DESCRIPTION:
URL:https://countryattitude37.fr/event/dim-15-aout-2021/
LOCATION:Mansigné
CATEGORIES:AGENDA
ATTACH;FMTTYPE=image/jpeg:https://countryattitude37.fr/wp-content/uploads/2021/08/2021-08-15-MANSIGNE-72-.jpg
END:VEVENT
BEGIN:VEVENT
DTSTART;TZID=Europe/Paris:20210828T100000
DTEND;TZID=Europe/Paris:20210828T220000
DTSTAMP:20260423T191433
CREATED:20210811T191808Z
LAST-MODIFIED:20210811T191808Z
UID:6299-1630144800-1630188000@countryattitude37.fr
SUMMARY:Sam 28/08/2021 : 12H de COUNTRY à SURGERES (17)
DESCRIPTION:
URL:https://countryattitude37.fr/event/sam-28-08-2021-12h-de-country-a-surgeres-17/
CATEGORIES:AGENDA
ATTACH;FMTTYPE=image/jpeg:https://countryattitude37.fr/wp-content/uploads/2021/07/2021-08-28-SURGERES-17-12h-de-country-.jpg
END:VEVENT
END:VCALENDAR