BEGIN:VCALENDAR
VERSION:2.0
PRODID:-//COUNTRY ATTITUDE - ECPv6.15.20//NONSGML v1.0//EN
CALSCALE:GREGORIAN
METHOD:PUBLISH
X-ORIGINAL-URL:https://countryattitude37.fr
X-WR-CALDESC:Évènements pour COUNTRY ATTITUDE
REFRESH-INTERVAL;VALUE=DURATION:PT1H
X-Robots-Tag:noindex
X-PUBLISHED-TTL:PT1H
BEGIN:VTIMEZONE
TZID:Europe/Paris
BEGIN:DAYLIGHT
TZOFFSETFROM:+0100
TZOFFSETTO:+0200
TZNAME:CEST
DTSTART:20200329T010000
END:DAYLIGHT
BEGIN:STANDARD
TZOFFSETFROM:+0200
TZOFFSETTO:+0100
TZNAME:CET
DTSTART:20201025T010000
END:STANDARD
BEGIN:DAYLIGHT
TZOFFSETFROM:+0100
TZOFFSETTO:+0200
TZNAME:CEST
DTSTART:20210328T010000
END:DAYLIGHT
BEGIN:STANDARD
TZOFFSETFROM:+0200
TZOFFSETTO:+0100
TZNAME:CET
DTSTART:20211031T010000
END:STANDARD
BEGIN:DAYLIGHT
TZOFFSETFROM:+0100
TZOFFSETTO:+0200
TZNAME:CEST
DTSTART:20220327T010000
END:DAYLIGHT
BEGIN:STANDARD
TZOFFSETFROM:+0200
TZOFFSETTO:+0100
TZNAME:CET
DTSTART:20221030T010000
END:STANDARD
END:VTIMEZONE
BEGIN:VEVENT
DTSTART;TZID=Europe/Paris:20210605T140000
DTEND;TZID=Europe/Paris:20210605T140000
DTSTAMP:20260423T223430
CREATED:20200510T153216Z
LAST-MODIFIED:20210704T085936Z
UID:6086-1622901600-1622901600@countryattitude37.fr
SUMMARY:Sam 05/06/2021 : Anniversaire COUNTRY ATTITUDE (37)
DESCRIPTION:
URL:https://countryattitude37.fr/event/sam-05-06-2021-anniversaire-country-attitude-37/
CATEGORIES:AGENDA
ATTACH;FMTTYPE=image/png:https://countryattitude37.fr/wp-content/uploads/2021/07/Evenement-country-Attitude-5-juin-2021-annule.png
ORGANIZER;CN="COUNTRY ATTITUDE":MAILTO:michele.chilon@hotmail.fr
END:VEVENT
END:VCALENDAR