BEGIN:VCALENDAR
VERSION:2.0
PRODID:-//COUNTRY ATTITUDE - ECPv6.15.20//NONSGML v1.0//EN
CALSCALE:GREGORIAN
METHOD:PUBLISH
X-WR-CALNAME:COUNTRY ATTITUDE
X-ORIGINAL-URL:https://countryattitude37.fr
X-WR-CALDESC:Évènements pour COUNTRY ATTITUDE
REFRESH-INTERVAL;VALUE=DURATION:PT1H
X-Robots-Tag:noindex
X-PUBLISHED-TTL:PT1H
BEGIN:VTIMEZONE
TZID:Europe/Paris
BEGIN:DAYLIGHT
TZOFFSETFROM:+0100
TZOFFSETTO:+0200
TZNAME:CEST
DTSTART:20200329T010000
END:DAYLIGHT
BEGIN:STANDARD
TZOFFSETFROM:+0200
TZOFFSETTO:+0100
TZNAME:CET
DTSTART:20201025T010000
END:STANDARD
BEGIN:DAYLIGHT
TZOFFSETFROM:+0100
TZOFFSETTO:+0200
TZNAME:CEST
DTSTART:20210328T010000
END:DAYLIGHT
BEGIN:STANDARD
TZOFFSETFROM:+0200
TZOFFSETTO:+0100
TZNAME:CET
DTSTART:20211031T010000
END:STANDARD
BEGIN:DAYLIGHT
TZOFFSETFROM:+0100
TZOFFSETTO:+0200
TZNAME:CEST
DTSTART:20220327T010000
END:DAYLIGHT
BEGIN:STANDARD
TZOFFSETFROM:+0200
TZOFFSETTO:+0100
TZNAME:CET
DTSTART:20221030T010000
END:STANDARD
END:VTIMEZONE
BEGIN:VEVENT
DTSTART;TZID=Europe/Paris:20210117T123000
DTEND;TZID=Europe/Paris:20210117T180000
DTSTAMP:20260424T073113
CREATED:20200808T202422Z
LAST-MODIFIED:20201011T110135Z
UID:6100-1610886600-1610906400@countryattitude37.fr
SUMMARY:Dim 17/01/2021 : LOTO de notre club COUNTRY ATTITUDE 37
DESCRIPTION:Comme pour le bal de noël\, le loto  n’aura pas lieu. Beaucoup d’incertitudes demeurent pour sa prochaine date
URL:https://countryattitude37.fr/event/dim-17-01-2021-loto-de-notre-club-country-attitude-37/
LOCATION:salle des fêtes de CHOUZE SUR LOIRE (37)\, salle des fêtes\, Chouzé sur Loire\, 37140\, France
CATEGORIES:AGENDA
ORGANIZER;CN="COUNTRY ATTITUDE":MAILTO:michele.chilon@hotmail.fr
END:VEVENT
END:VCALENDAR